View In:
ArcGIS JavaScript
ArcGIS Online Map Viewer
ArcGIS Earth
ArcGIS Pro
Service Description: <div style='text-align:Left;font-size:12pt'><p><span style='font-weight:bold;'>Datasource_</span></p><p><span>DNK FOP</span></p><p><span>Udsnit af bgningslag fra MILDB</span></p><p><span>Plantegninger over Fredericia Gymnasium.</span></p><p><span>Plantegninger er modtaget som PDF filer. Filerne er konverteret til tif og efterfølgende georef.</span></p></div>
Map Name: Fredericia Gymnasium_WM
Legend
All Layers and Tables
Dynamic Legend
Dynamic All Layers
Layers:
Description: Datasource_DNK FOPUdsnit af bgningslag fra MILDBPlantegninger over Fredericia Gymnasium.Plantegninger er modtaget som PDF filer. Filerne er konverteret til tif og efterfølgende georef.
Service Item Id: ace469a39ca64c84acf9bafb76da8b49
Copyright Text: GEOCEN
Spatial Reference:
102100
(3857)
LatestVCSWkid(0)
Single Fused Map Cache: true
Tile Info:
- Height: 256
- Width: 256
- DPI: 96
-
Levels of Detail: 24
-
Level ID: 0
[ Start Tile, End Tile ]
- Resolution: 156543.03392800014
- Scale: 5.91657527591555E8
-
Level ID: 1
[ Start Tile, End Tile ]
- Resolution: 78271.51696399994
- Scale: 2.95828763795777E8
-
Level ID: 2
[ Start Tile, End Tile ]
- Resolution: 39135.75848200009
- Scale: 1.47914381897889E8
-
Level ID: 3
[ Start Tile, End Tile ]
- Resolution: 19567.87924099992
- Scale: 7.3957190948944E7
-
Level ID: 4
[ Start Tile, End Tile ]
- Resolution: 9783.93962049996
- Scale: 3.6978595474472E7
-
Level ID: 5
[ Start Tile, End Tile ]
- Resolution: 4891.96981024998
- Scale: 1.8489297737236E7
- Format: PNG
- Compression Quality: 0.0
- Origin: X: -2.0037508342787E7
Y: 2.0037508342787E7
- Spatial Reference: 102100
(3857)
LatestVCSWkid(0)
Storage Info:
- Storage Format: esriMapCacheStorageModeCompactV2
- Packet Size: 128
Initial Extent:
XMin: 1084618.9635503355
YMin: 7474311.770762805
XMax: 1085836.440525364
YMax: 7475238.020516692
Spatial Reference: 102100
(3857)
LatestVCSWkid(0)
Full Extent:
XMin: 1082590.5841760563
YMin: 7472934.022889022
XMax: 1087623.6310227315
YMax: 7476784.812476426
Spatial Reference: 102100
(3857)
LatestVCSWkid(0)
Units: esriMeters
Supported Image Format Types: PNG32,PNG24,PNG,JPG,DIB,TIFF,EMF,PS,PDF,GIF,SVG,SVGZ,BMP
Document Info:
Title: Fredericia Gymnasium
Author:
Comments: Datasource_DNK FOPUdsnit af bgningslag fra MILDBPlantegninger over Fredericia Gymnasium.Plantegninger er modtaget som PDF filer. Filerne er konverteret til tif og efterfølgende georef.
Subject: Kort over Fredericia Gymnasium
Category:
Keywords: Fredericia
AntialiasingMode: Fast
TextAntialiasingMode: Force
Supports Dynamic Layers: true
MaxRecordCount: 2000
MaxSelectionCount: 2000
MaxImageHeight: 4096
MaxImageWidth: 4096
Supported Query Formats: JSON, geoJSON, PBF
Supports Query Data Elements: true
Min Scale: 9244648.868618
Max Scale: 144447.638572
Min LOD: 6
Max LOD: 21
Supports Datum Transformation: true
Child Resources:
Info
Dynamic Layer
Supported Operations:
Export Map
Identify
QueryLegends
QueryDomains
Find
Return Updates