{ "currentVersion": 11.4, "serviceDescription": "
Data from 2020.<\/span><\/p><\/div><\/div><\/div>",
"name": "Greenland/GRL_TM50_WM_",
"description": " Data from 2020.<\/span><\/p><\/div><\/div><\/div>",
"extent": {
"xmin": -8237640.1622,
"ymin": 8192197.978754278,
"xmax": -1001878.1952242777,
"ymax": 1.88190089089E7,
"spatialReference": {
"wkid": 102100,
"latestWkid": 3857
}
},
"initialExtent": {
"xmin": -8237640.1622,
"ymin": 8192197.978754278,
"xmax": -1001878.1952242777,
"ymax": 1.88190089089E7,
"spatialReference": {
"wkid": 102100,
"latestWkid": 3857
}
},
"fullExtent": {
"xmin": -8237640.1622,
"ymin": 8192197.978754278,
"xmax": -1001878.1952242777,
"ymax": 1.88190089089E7,
"spatialReference": {
"wkid": 102100,
"latestWkid": 3857
}
},
"sortableFields": "MinPS,MaxPS,LowPS,HighPS,CenterX,CenterY,ZOrder,Shape.STArea(),Shape.STLength()",
"bandCount": 3,
"pixelType": "U8",
"minValues": [
12,
92,
107
],
"maxValues": [
255,
255,
255
],
"meanValues": [
197.05783765288984,
218.01998948507824,
225.6500310162473
],
"stdvValues": [
47.890997467350196,
25.88822323459484,
26.056432586784855
],
"hasMultidimensions": false,
"pixelSizeX": 2.1165231619999996,
"pixelSizeY": 2.116523162,
"meanPixelSize": 2.116523162,
"datasetFormat": "AMD",
"uncompressedSize": 51494687749386,
"blockWidth": 2048,
"blockHeight": 256,
"compressionType": "None",
"bandNames": [
"Band_1",
"Band_2",
"Band_3"
],
"allowCopy": true,
"allowAnalysis": true,
"itemAccess": false,
"inspectionCapabilities": "",
"minPixelSize": 0,
"maxPixelSize": 0,
"copyrightText": "",
"serviceDataType": "esriImageServiceDataTypeProcessed",
"serviceSourceType": "esriImageServiceSourceTypeMosaicDataset",
"objectIdField": "OBJECTID",
"fields": [
{
"name": "OBJECTID",
"type": "esriFieldTypeOID",
"alias": "OBJECTID",
"domain": null
},
{
"name": "Name",
"type": "esriFieldTypeString",
"alias": "Name",
"domain": null,
"length": 200
},
{
"name": "MinPS",
"type": "esriFieldTypeDouble",
"alias": "MinPS",
"domain": null
},
{
"name": "MaxPS",
"type": "esriFieldTypeDouble",
"alias": "MaxPS",
"domain": null
},
{
"name": "LowPS",
"type": "esriFieldTypeDouble",
"alias": "LowPS",
"domain": null
},
{
"name": "HighPS",
"type": "esriFieldTypeDouble",
"alias": "HighPS",
"domain": null
},
{
"name": "Category",
"type": "esriFieldTypeInteger",
"alias": "Category",
"domain": {
"type": "codedValue",
"name": "MosaicCatalogItemCategoryDomain",
"description": "Catalog item categories.",
"codedValues": [
{
"name": "Unknown",
"code": 0
},
{
"name": "Primary",
"code": 1
},
{
"name": "Overview",
"code": 2
},
{
"name": "Unprocessed Overview",
"code": 3
},
{
"name": "Partial Overview",
"code": 4
},
{
"name": "Inactive",
"code": 5
},
{
"name": "Uploaded",
"code": 253
},
{
"name": "Incomplete",
"code": 254
},
{
"name": "Custom",
"code": 255
}
],
"mergePolicy": "esriMPTDefaultValue",
"splitPolicy": "esriSPTDefaultValue"
}
},
{
"name": "Tag",
"type": "esriFieldTypeString",
"alias": "Tag",
"domain": null,
"length": 100
},
{
"name": "GroupName",
"type": "esriFieldTypeString",
"alias": "GroupName",
"domain": null,
"length": 100
},
{
"name": "ProductName",
"type": "esriFieldTypeString",
"alias": "ProductName",
"domain": null,
"length": 100
},
{
"name": "CenterX",
"type": "esriFieldTypeDouble",
"alias": "CenterX",
"domain": null
},
{
"name": "CenterY",
"type": "esriFieldTypeDouble",
"alias": "CenterY",
"domain": null
},
{
"name": "ZOrder",
"type": "esriFieldTypeInteger",
"alias": "ZOrder",
"domain": null
},
{
"name": "Shape",
"type": "esriFieldTypeGeometry",
"alias": "Shape",
"domain": null
},
{
"name": "Shape.STArea()",
"type": "esriFieldTypeDouble",
"alias": "Shape.STArea()",
"domain": null
},
{
"name": "Shape.STLength()",
"type": "esriFieldTypeDouble",
"alias": "Shape.STLength()",
"domain": null
}
],
"capabilities": "Catalog,Image,Metadata",
"defaultMosaicMethod": "Northwest",
"allowedMosaicMethods": "NorthWest,Center,LockRaster,ByAttribute,Nadir,Viewpoint,Seamline,None",
"sortField": "",
"sortValue": null,
"sortAscending": true,
"mosaicOperator": "First",
"maxDownloadSizeLimit": 2048,
"defaultCompressionQuality": 75,
"defaultResamplingMethod": "Bilinear",
"maxImageHeight": 4100,
"maxImageWidth": 15000,
"maxRecordCount": 1000,
"maxDownloadImageCount": 20,
"maxMosaicImageCount": 100,
"allowRasterFunction": true,
"rasterFunctionInfos": [
{
"name": "None",
"description": "",
"help": ""
}
],
"rasterTypeInfos": [
{
"name": "Raster Dataset",
"description": "Supports all ArcGIS Raster Datasets",
"help": ""
}
],
"mensurationCapabilities": "None",
"hasHistograms": true,
"hasColormap": false,
"hasRasterAttributeTable": false,
"minScale": 0,
"maxScale": 0,
"exportTilesAllowed": false,
"supportsStatistics": true,
"supportsAdvancedQueries": true,
"editFieldsInfo": null,
"ownershipBasedAccessControlForRasters": null,
"allowComputeTiePoints": false,
"useStandardizedQueries": true,
"advancedQueryCapabilities": {
"useStandardizedQueries": true,
"supportsStatistics": true,
"supportsOrderBy": true,
"supportsDistinct": true,
"supportsPagination": true
},
"spatialReference": {
"wkid": 102100,
"latestWkid": 3857
},
"resampling": false
}