{
 "currentVersion": 11.4,
 "serviceDescription": "Greenland/GRL_TM500",
 "name": "Greenland/GRL_TM500",
 "description": "",
 "extent": {
  "xmin": -400025.00531395455,
  "ymin": 6550027.482941593,
  "xmax": 1175011.1099826517,
  "ymax": 9350025.007007236,
  "spatialReference": {
   "wkid": 3184,
   "latestWkid": 3184
  }
 },
 "initialExtent": {
  "xmin": -400025.00531395455,
  "ymin": 6550027.482941593,
  "xmax": 1175011.1099826517,
  "ymax": 9350025.007007236,
  "spatialReference": {
   "wkid": 3184,
   "latestWkid": 3184
  }
 },
 "fullExtent": {
  "xmin": -400025.00531395455,
  "ymin": 6550027.482941593,
  "xmax": 1175011.1099826517,
  "ymax": 9350025.007007236,
  "spatialReference": {
   "wkid": 3184,
   "latestWkid": 3184
  }
 },
 "sortableFields": "MinPS,MaxPS,LowPS,HighPS,CenterX,CenterY,ZOrder,Shape.STArea(),Shape.STLength()",
 "bandCount": 3,
 "pixelType": "U8",
 "minValues": [
  0,
  0,
  0
 ],
 "maxValues": [
  254,
  254,
  254
 ],
 "meanValues": [
  228.37384844193227,
  236.66476537512816,
  242.00451772911327
 ],
 "stdvValues": [
  38.41186551059836,
  31.86149757293379,
  36.528418848572834
 ],
 "hasMultidimensions": false,
 "pixelSizeX": 50.010672359000004,
 "pixelSizeY": 50.010672359000004,
 "meanPixelSize": 50.010672359000004,
 "datasetFormat": "AMD",
 "uncompressedSize": 5289858216,
 "blockWidth": 2048,
 "blockHeight": 256,
 "compressionType": "None",
 "bandNames": [
  "Band_1",
  "Band_2",
  "Band_3"
 ],
 "allowCopy": true,
 "allowAnalysis": true,
 "itemAccess": false,
 "inspectionCapabilities": "",
 "minPixelSize": 1.58750317500635,
 "maxPixelSize": 3439.5902125137586,
 "copyrightText": "",
 "serviceDataType": "esriImageServiceDataTypeProcessed",
 "serviceSourceType": "esriImageServiceSourceTypeMosaicDataset",
 "objectIdField": "OBJECTID",
 "fields": [
  {
   "name": "OBJECTID",
   "type": "esriFieldTypeOID",
   "alias": "OBJECTID",
   "domain": null
  },
  {
   "name": "Name",
   "type": "esriFieldTypeString",
   "alias": "Name",
   "domain": null,
   "length": 200
  },
  {
   "name": "MinPS",
   "type": "esriFieldTypeDouble",
   "alias": "MinPS",
   "domain": null
  },
  {
   "name": "MaxPS",
   "type": "esriFieldTypeDouble",
   "alias": "MaxPS",
   "domain": null
  },
  {
   "name": "LowPS",
   "type": "esriFieldTypeDouble",
   "alias": "LowPS",
   "domain": null
  },
  {
   "name": "HighPS",
   "type": "esriFieldTypeDouble",
   "alias": "HighPS",
   "domain": null
  },
  {
   "name": "Category",
   "type": "esriFieldTypeInteger",
   "alias": "Category",
   "domain": {
    "type": "codedValue",
    "name": "MosaicCatalogItemCategoryDomain",
    "description": "Catalog item categories.",
    "codedValues": [
     {
      "name": "Unknown",
      "code": 0
     },
     {
      "name": "Primary",
      "code": 1
     },
     {
      "name": "Overview",
      "code": 2
     },
     {
      "name": "Unprocessed Overview",
      "code": 3
     },
     {
      "name": "Partial Overview",
      "code": 4
     },
     {
      "name": "Inactive",
      "code": 5
     },
     {
      "name": "Uploaded",
      "code": 253
     },
     {
      "name": "Incomplete",
      "code": 254
     },
     {
      "name": "Custom",
      "code": 255
     }
    ],
    "mergePolicy": "esriMPTDefaultValue",
    "splitPolicy": "esriSPTDefaultValue"
   }
  },
  {
   "name": "Tag",
   "type": "esriFieldTypeString",
   "alias": "Tag",
   "domain": null,
   "length": 100
  },
  {
   "name": "GroupName",
   "type": "esriFieldTypeString",
   "alias": "GroupName",
   "domain": null,
   "length": 100
  },
  {
   "name": "ProductName",
   "type": "esriFieldTypeString",
   "alias": "ProductName",
   "domain": null,
   "length": 100
  },
  {
   "name": "CenterX",
   "type": "esriFieldTypeDouble",
   "alias": "CenterX",
   "domain": null
  },
  {
   "name": "CenterY",
   "type": "esriFieldTypeDouble",
   "alias": "CenterY",
   "domain": null
  },
  {
   "name": "ZOrder",
   "type": "esriFieldTypeInteger",
   "alias": "ZOrder",
   "domain": null
  },
  {
   "name": "Shape",
   "type": "esriFieldTypeGeometry",
   "alias": "Shape",
   "domain": null
  },
  {
   "name": "Shape.STArea()",
   "type": "esriFieldTypeDouble",
   "alias": "Shape.STArea()",
   "domain": null
  },
  {
   "name": "Shape.STLength()",
   "type": "esriFieldTypeDouble",
   "alias": "Shape.STLength()",
   "domain": null
  }
 ],
 "capabilities": "Catalog,Image,Metadata",
 "defaultMosaicMethod": "Northwest",
 "allowedMosaicMethods": "NorthWest,Center,LockRaster,ByAttribute,Nadir,Viewpoint,Seamline,None",
 "sortField": "",
 "sortValue": null,
 "sortAscending": true,
 "mosaicOperator": "First",
 "maxDownloadSizeLimit": 2048,
 "defaultCompressionQuality": 75,
 "defaultResamplingMethod": "Bilinear",
 "maxImageHeight": 4100,
 "maxImageWidth": 15000,
 "maxRecordCount": 1000,
 "maxDownloadImageCount": 20,
 "maxMosaicImageCount": 100,
 "singleFusedMapCache": true,
 "tileInfo": {
  "rows": 256,
  "cols": 256,
  "dpi": 96,
  "format": "MIXED",
  "compressionQuality": 75,
  "origin": {
   "x": -5120900,
   "y": 9998100
  },
  "spatialReference": {
   "wkid": 3184,
   "latestWkid": 3184
  },
  "lods": [
   {
    "level": 0,
    "resolution": 3276.674286681907,
    "scale": 12384256
   },
   {
    "level": 1,
    "resolution": 1638.3371433409534,
    "scale": 6192128
   },
   {
    "level": 2,
    "resolution": 819.1685716704767,
    "scale": 3096064
   },
   {
    "level": 3,
    "resolution": 409.58428583523835,
    "scale": 1548032
   },
   {
    "level": 4,
    "resolution": 204.79214291761917,
    "scale": 774016
   },
   {
    "level": 5,
    "resolution": 102.39607145880959,
    "scale": 387008
   },
   {
    "level": 6,
    "resolution": 51.19803572940479,
    "scale": 193504
   },
   {
    "level": 7,
    "resolution": 25.599017864702397,
    "scale": 96752
   },
   {
    "level": 8,
    "resolution": 12.799508932351198,
    "scale": 48376
   },
   {
    "level": 9,
    "resolution": 6.399754466175599,
    "scale": 24188
   },
   {
    "level": 10,
    "resolution": 3.1998772330877996,
    "scale": 12094
   },
   {
    "level": 11,
    "resolution": 1.5999386165438998,
    "scale": 6047
   }
  ]
 },
 "storageInfo": {
  "storageFormat": "esriMapCacheStorageModeCompactV2",
  "packetSize": 128
 },
 "cacheType": "Map",
 "allowRasterFunction": true,
 "rasterFunctionInfos": [
  {
   "name": "None",
   "description": "",
   "help": ""
  }
 ],
 "rasterTypeInfos": [
  {
   "name": "Raster Dataset",
   "description": "Supports all ArcGIS Raster Datasets",
   "help": ""
  }
 ],
 "mensurationCapabilities": "None",
 "hasHistograms": true,
 "hasColormap": false,
 "hasRasterAttributeTable": false,
 "minScale": 13000000,
 "maxScale": 6000,
 "minLOD": 0,
 "maxLOD": 9,
 "exportTilesAllowed": true,
 "maxExportTilesCount": 100000,
 "supportsStatistics": true,
 "supportsAdvancedQueries": true,
 "editFieldsInfo": null,
 "ownershipBasedAccessControlForRasters": null,
 "allowComputeTiePoints": false,
 "useStandardizedQueries": true,
 "advancedQueryCapabilities": {
  "useStandardizedQueries": true,
  "supportsStatistics": true,
  "supportsOrderBy": true,
  "supportsDistinct": true,
  "supportsPagination": true
 },
 "spatialReference": {
  "wkid": 3184,
  "latestWkid": 3184
 },
 "resampling": false
}
